BEGIN:VCALENDAR
VERSION:2.0
PRODID:-//โรงเรียนประชาวิทย์ ลำปาง - ECPv5.3.1.1//NONSGML v1.0//EN
CALSCALE:GREGORIAN
METHOD:PUBLISH
X-WR-CALNAME:โรงเรียนประชาวิทย์ ลำปาง
X-ORIGINAL-URL:https://prachawit.ac.th
X-WR-CALDESC:Events for โรงเรียนประชาวิทย์ ลำปาง
BEGIN:VTIMEZONE
TZID:Asia/Krasnoyarsk
BEGIN:STANDARD
TZOFFSETFROM:+0700
TZOFFSETTO:+0700
TZNAME:+07
DTSTART:20260101T000000
END:STANDARD
END:VTIMEZONE
BEGIN:VEVENT
DTSTART;TZID=Asia/Krasnoyarsk:20260227T123000
DTEND;TZID=Asia/Krasnoyarsk:20260227T150000
DTSTAMP:20260423T221122
CREATED:20260226T050152Z
LAST-MODIFIED:20260226T055509Z
UID:11278-1772195400-1772204400@prachawit.ac.th
SUMMARY:พิธีมอบวุฒิบัตร นักเรียนชั้น ม.3 ม.6
DESCRIPTION:เชิญผู้ปกครอง นักเรียนเข้าร่วมพิธีมอบวุฒิบัตร ของนักเรียนระดับชั้น มัธยมศึกษาปีที่ 3 และ 6 ในวันที่ 27 กุมภาพันธ์ 2569 ณ.ห้องประชุมชั้น 5 อาคารศึกษาประชาวิทย์ โรงเรียนประชาวิทย์ เวลา 12:30 น.
URL:https://prachawit.ac.th/event/%e0%b8%9e%e0%b8%b4%e0%b8%98%e0%b8%b5%e0%b8%a1%e0%b8%ad%e0%b8%9a%e0%b8%a7%e0%b8%b8%e0%b8%92%e0%b8%b4%e0%b8%9a%e0%b8%b1%e0%b8%95%e0%b8%a3-%e0%b8%99%e0%b8%b1%e0%b8%81%e0%b9%80%e0%b8%a3%e0%b8%b5%e0%b8%a2/
END:VEVENT
END:VCALENDAR