BEGIN:VCALENDAR
VERSION:2.0
PRODID:-//โรงเรียนประชาวิทย์ ลำปาง - ECPv5.3.1.1//NONSGML v1.0//EN
CALSCALE:GREGORIAN
METHOD:PUBLISH
X-WR-CALNAME:โรงเรียนประชาวิทย์ ลำปาง
X-ORIGINAL-URL:https://prachawit.ac.th
X-WR-CALDESC:Events for โรงเรียนประชาวิทย์ ลำปาง
BEGIN:VTIMEZONE
TZID:Asia/Krasnoyarsk
BEGIN:STANDARD
TZOFFSETFROM:+0700
TZOFFSETTO:+0700
TZNAME:+07
DTSTART:20260101T000000
END:STANDARD
END:VTIMEZONE
BEGIN:VEVENT
DTSTART;TZID=Asia/Krasnoyarsk:20260227T080000
DTEND;TZID=Asia/Krasnoyarsk:20260227T110000
DTSTAMP:20260423T221301
CREATED:20260226T054230Z
LAST-MODIFIED:20260226T055453Z
UID:11288-1772179200-1772190000@prachawit.ac.th
SUMMARY:พิธีมอบวุฒิบัตร นักเรียนชั้น ป.6
DESCRIPTION:เชิญผู้ปกครอง นักเรียนเข้าร่วมพิธีมอบวุฒิบัตร ของนักเรียนระดับชั้น ประถมศึกษาปีที่ 6 ในวันที่ 27 กุมภาพันธ์ 2569 ณ.ห้องประชุมชั้น 5 อาคารศึกษาประชาวิทย์ โรงเรียนประชาวิทย์ เวลา 08:30 น.
URL:https://prachawit.ac.th/event/11288/
END:VEVENT
END:VCALENDAR